BEGIN:VCALENDAR
VERSION:2.0
PRODID:-//eventon.com NONSGML v1.0//EN
CALSCALE:GREGORIAN
METHOD:PUBLISH
BEGIN:VEVENT
UID:69ecaee6f3ba7
DTSTAMP:20260425T120910Z
DTSTART:20260508
DTEND:20260509
LOCATION:
SUMMARY:EUSOBI Comprehensive Breast Imaging Course
DESCRIPTION:EUSOBI is delighted to announce its new course: EUSOBI Comprehe
 nsive Breast Imaging Course &#8211; Get ready for the European Diploma in B
 reast Imaging. The course will be held from May 08-09\,  2026\,  in the his
 toric city of Krakow. This course offers an overview of all aspects of brea
 st imaging: from[..]\nhttps://www.eusobi.org/events/eusobi-comprehensive-br
 east-imaging-course/
URL:https://www.eusobi.org/events/eusobi-comprehensive-breast-imaging-course/
END:VEVENT
END:VCALENDAR