BEGIN:VCALENDAR
VERSION:2.0
PRODID:-//eventon.com NONSGML v1.0//EN
CALSCALE:GREGORIAN
METHOD:PUBLISH
BEGIN:VEVENT
UID:69ecbf986b6c5
DTSTAMP:20260425T132024Z
DTSTART:20260522
DTEND:20260523
LOCATION:
SUMMARY:EUSOBI Breast MRI Training Course – “Breast imaging with MRI\,  opening to CEM”
DESCRIPTION:Breast MRI is considered to be the most important imaging techn
 ique to have emerged in breast cancer care\,  opening a new window for diag
 nosing this disease. European radiologists pioneered this application of MR
 I and have promoted its clinical use since the 1980s. Over the course of 1\
 , 5 days\,  European experts[..]\nhttps://www.eusobi.org/events/eusobi-brea
 st-mri-training-course-breast-imaging-with-mri-opening-to-cem/
URL:https://www.eusobi.org/events/eusobi-breast-mri-training-course-breast-imaging-with-mri-opening-to-cem/
END:VEVENT
END:VCALENDAR