BEGIN:VCALENDAR
VERSION:2.0
PRODID:-//eventon.com NONSGML v1.0//EN
CALSCALE:GREGORIAN
METHOD:PUBLISH
BEGIN:VEVENT
UID:69ecc15a28350
DTSTAMP:20260425T132754Z
DTSTART:20260413
DTEND:20260414
LOCATION:
SUMMARY:LRCB Breast Cancer Screening for Radiologists
DESCRIPTION:LRCB Breast Cancer Screening for Radiologists\nhttps://www.euso
 bi.org/events/lrcb-breast-cancer-screening-for-radiologists-2/
URL:https://www.eusobi.org/events/lrcb-breast-cancer-screening-for-radiologists-2/
END:VEVENT
END:VCALENDAR