BEGIN:VCALENDAR
VERSION:2.0
PRODID:-//eventon.com NONSGML v1.0//EN
CALSCALE:GREGORIAN
METHOD:PUBLISH
BEGIN:VEVENT
UID:69ecaf0b48ee3
DTSTAMP:20260425T120947Z
DTSTART:20260518
DTEND:20260519
LOCATION:
SUMMARY:LRCB Breast Cancer Screening for Radiologists
DESCRIPTION:LRCB Breast Cancer Screening for Radiologists\nhttps://www.euso
 bi.org/events/lrcb-breast-cancer-screening-for-radiologists-3/
URL:https://www.eusobi.org/events/lrcb-breast-cancer-screening-for-radiologists-3/
END:VEVENT
END:VCALENDAR