BEGIN:VCALENDAR
VERSION:2.0
PRODID:-//eventon.com NONSGML v1.0//EN
CALSCALE:GREGORIAN
METHOD:PUBLISH
BEGIN:VEVENT
UID:69ecc1e4e6248
DTSTAMP:20260425T133012Z
DTSTART:20261102
DTEND:20261103
LOCATION:
SUMMARY:LRCB Advanced Breast Cancer Screening for Radiologists
DESCRIPTION:LRCB Advanced Breast Cancer Screening for Radiologists\nhttps:/
 /www.eusobi.org/events/lrcb-advanced-breast-cancer-screening-for-radiologis
 ts/
URL:https://www.eusobi.org/events/lrcb-advanced-breast-cancer-screening-for-radiologists/
END:VEVENT
END:VCALENDAR