BEGIN:VCALENDAR
VERSION:2.0
PRODID:-//eventon.com NONSGML v1.0//EN
CALSCALE:GREGORIAN
METHOD:PUBLISH
BEGIN:VEVENT
UID:69ecbf830b64e
DTSTAMP:20260425T132003Z
DTSTART:20260422
DTEND:20260423
LOCATION:
SUMMARY:EUSOBI/EYC WEBINAR SERIES 7 - Risk Stratification in Daily Practice: Who Gets What?
DESCRIPTION:Webinar 7.4: Wednesday\,  April 22\,  2026 Moderator: Machteld 
 Keupers\,  Leuven/BE 18:00-19:00 CEST Risk Stratification in Daily Practice
 : Who Gets What? 18:00-18:20 Nick Payne\,  Cambridge/UK 18:20-18:40 Simone 
 Schiaffino\,  Lugano/CH Discussion\,  Q&amp;A\nhttps://www.eusobi.org/event
 s/eusobi-eyc-webinar-series-7-risk-stratification-in-daily-practice-who-get
 s-what/
URL:https://www.eusobi.org/events/eusobi-eyc-webinar-series-7-risk-stratification-in-daily-practice-who-gets-what/
END:VEVENT
END:VCALENDAR