BEGIN:VCALENDAR
VERSION:2.0
PRODID:-//eventon.com NONSGML v1.0//EN
CALSCALE:GREGORIAN
METHOD:PUBLISH
BEGIN:VEVENT
UID:69ecaf3c8a921
DTSTAMP:20260425T121036Z
DTSTART:20260505
DTEND:20260506
LOCATION:
SUMMARY:EUSOBI/EYC WEBINAR SERIES 7 - How Our Words Impact Patient Care
DESCRIPTION:Webinar 7.5: Tuesday\,  May 5\,  2026 Moderator: Melis Baykara 
 Ulusan\,  Istanbul/TR 18:00-19:00 CEST How Our Words Impact Patient Care Al
 exandra Athanasiou\,  Athens/GR Discussion\,  Q&amp;A\nhttps://www.eusobi.o
 rg/events/eusobi-eyc-webinar-series-7-how-our-words-impact-patient-care/
URL:https://www.eusobi.org/events/eusobi-eyc-webinar-series-7-how-our-words-impact-patient-care/
END:VEVENT
END:VCALENDAR