BEGIN:VCALENDAR
VERSION:2.0
PRODID:-//eventon.com NONSGML v1.0//EN
CALSCALE:GREGORIAN
METHOD:PUBLISH
BEGIN:VEVENT
UID:69ecc344ce5ac
DTSTAMP:20260425T133604Z
DTSTART:20260624
DTEND:20260625
LOCATION:
SUMMARY:EUSOBI/EYC WEBINAR SERIES 7 - Multidisciplinary Boards: What Radiologists Bring to the Table
DESCRIPTION:Webinar 7.6: Wednesday\,  June 24\,  2026 Moderator: Miguel Bra
 ga\,  Lisbon/PT 18:00-19:00 CEST Multidisciplinary Boards: What Radiologist
 s Bring to the Table 18:00-18:20 Heike Preibsch\,  Tübingen/DE 18:20-18:40
  Nuala Healy\,  Dublin/IR Discussion\,  Q&amp;A\nhttps://www.eusobi.org/eve
 nts/eusobi-eyc-webinar-series-7-multidisciplinary-boards-what-radiologists-
 bring-to-the-table/
URL:https://www.eusobi.org/events/eusobi-eyc-webinar-series-7-multidisciplinary-boards-what-radiologists-bring-to-the-table/
END:VEVENT
END:VCALENDAR