BEGIN:VCALENDAR
VERSION:2.0
PRODID:-//eventon.com NONSGML v1.0//EN
CALSCALE:GREGORIAN
METHOD:PUBLISH
BEGIN:VEVENT
UID:69ecaf66ad7da
DTSTAMP:20260425T121118Z
DTSTART:20260706
DTEND:20260707
LOCATION:
SUMMARY:EUSOBI/EYC WEBINAR SERIES 7 - Challenging cases: dealing with discordant findings and diagnostic uncertainty
DESCRIPTION:Webinar 7.7: Monday\,  July 6\,  2026 Moderator: Marianna Faniz
 za\,  Bologna/IT 18:00-19:00 CEST Challenging cases: dealing with discordan
 t findings and diagnostic uncertainty Julia Camps-Herrero\,  Valencia/ES Di
 scussion\,  Q&amp;A\nhttps://www.eusobi.org/events/eusobi-eyc-webinar-serie
 s-7-challenging-cases-dealing-with-discordant-findings-and-diagnostic-uncer
 tainty/
URL:https://www.eusobi.org/events/eusobi-eyc-webinar-series-7-challenging-cases-dealing-with-discordant-findings-and-diagnostic-uncertainty/
END:VEVENT
END:VCALENDAR