BEGIN:VCALENDAR
VERSION:2.0
PRODID:-//eventon.com NONSGML v1.0//EN
CALSCALE:GREGORIAN
METHOD:PUBLISH
BEGIN:VEVENT
UID:69ecc1df52afc
DTSTAMP:20260425T133007Z
DTSTART:20260804
DTEND:20260805
LOCATION:
SUMMARY:EUSOBI/EYC WEBINAR SERIES 7 - Post-Treatment Imaging: Distinguishing treatment-related changes from recurrence\,  the Radiologist’s Role
DESCRIPTION:Webinar 7.8: Tuesday\,  August 4\,  2026 Moderator: Ioana Bene\
 ,  Cluj-Napoca/RO 18:00-19:00 CEST Post-Treatment Imaging: Distinguishing t
 reatment-related changes from recurrence\,  the Radiologist’s Role Daniel
 a Bernardi\,  Milan/IT Discussion\,  Q&amp;A\nhttps://www.eusobi.org/events
 /eusobi-eyc-webinar-series-7-post-treatment-imaging-distinguishing-treatmen
 t-related-changes-from-recurrence-the-radiologists-role/
URL:https://www.eusobi.org/events/eusobi-eyc-webinar-series-7-post-treatment-imaging-distinguishing-treatment-related-changes-from-recurrence-the-radiologists-role/
END:VEVENT
END:VCALENDAR