BEGIN:VCALENDAR
VERSION:2.0
PRODID:-//eventon.com NONSGML v1.0//EN
CALSCALE:GREGORIAN
METHOD:PUBLISH
BEGIN:VEVENT
UID:69ecaf392ecab
DTSTAMP:20260425T121033Z
DTSTART:20260915
DTEND:20260916
LOCATION:
SUMMARY:EUSOBI/EYC WEBINAR SERIES 7 - Percutaneous breast treatment: cryotherapy\,  microwave or else?
DESCRIPTION:Webinar 7.9: Tuesday\,  September 15\,  2026 Moderator: Iva Bio
 ndic Spoljar\,  Zagreb/HR 18:00-19:00 CEST Percutaneous breast treatment: c
 ryotherapy\,  microwave or else? 18:00-18:20 Rosa Garcia Dosda\,  Valencia/
 ES 18:20-18:40 Francesca Galatti Rome/IT Discussion\,  Q&amp;A\nhttps://www
 .eusobi.org/events/eusobi-eyc-webinar-series-7-percutaneous-breast-treatmen
 t-cryotherapy-microwave-or-else/
URL:https://www.eusobi.org/events/eusobi-eyc-webinar-series-7-percutaneous-breast-treatment-cryotherapy-microwave-or-else/
END:VEVENT
END:VCALENDAR