BEGIN:VCALENDAR
VERSION:2.0
PRODID:-//eventon.com NONSGML v1.0//EN
CALSCALE:GREGORIAN
METHOD:PUBLISH
BEGIN:VEVENT
UID:69ecc254b67a4
DTSTAMP:20260425T133204Z
DTSTART:20261013
DTEND:20261014
LOCATION:
SUMMARY:EUSOBI/EYC WEBINAR SERIES 7 - The importance of communication: From Clinicians to Patients
DESCRIPTION:Webinar 7.10: Tuesday\,  October 13\,  2026 Moderator: Stephani
 e Meyer\,  Aachen/DE 18:00-19:00 CEST The importance of communication: From
  Clinicians to Patients 18:00-18:20 Michael Fuchsjaeger\,  Graz/AT 18:20-18
 :40 Caroline Justich Vienna/AT Discussion\,  Q&amp;A\nhttps://www.eusobi.or
 g/events/eusobi-eyc-webinar-series-7-the-importance-of-communication-from-c
 linicians-to-patients/
URL:https://www.eusobi.org/events/eusobi-eyc-webinar-series-7-the-importance-of-communication-from-clinicians-to-patients/
END:VEVENT
END:VCALENDAR