BEGIN:VCALENDAR
VERSION:2.0
PRODID:-//eventon.com NONSGML v1.0//EN
CALSCALE:GREGORIAN
METHOD:PUBLISH
BEGIN:VEVENT
UID:69ecc245b31ac
DTSTAMP:20260425T133149Z
DTSTART:20261112
DTEND:20261113
LOCATION:
SUMMARY:EUSOBI/EYC WEBINAR SERIES 7 - Diversity\,  Equity and Inclusion: How to improve access for diverse populations
DESCRIPTION:Webinar 7.11: Thursday\,  November 12\,  2026 Moderator: Paola 
 Clauser\,  Vienna/AT 18:00-19:00 CET Diversity\,  Equity and Inclusion: How
  to improve access for diverse populations Louise Wilkinson\,  London/UK Di
 scussion\,  Q&amp;A\nhttps://www.eusobi.org/events/eusobi-eyc-webinar-serie
 s-7-diversity-equity-and-inclusion-how-to-improve-access-for-diverse-popula
 tions/
URL:https://www.eusobi.org/events/eusobi-eyc-webinar-series-7-diversity-equity-and-inclusion-how-to-improve-access-for-diverse-populations/
END:VEVENT
END:VCALENDAR