BEGIN:VCALENDAR
VERSION:2.0
PRODID:-//eventon.com NONSGML v1.0//EN
CALSCALE:GREGORIAN
METHOD:PUBLISH
BEGIN:VEVENT
UID:69ecaf649b146
DTSTAMP:20260425T121116Z
DTSTART:20261209
DTEND:20261210
LOCATION:
SUMMARY:EUSOBI/EYC WEBINAR SERIES 7 - Imaging in Pediatric and Adolescence population: Practical tips to manage young people
DESCRIPTION:Webinar 7.12: Wednesday\,  December 9\,  2026 Moderator: Elisab
 etta Giannotti\,  Cambridge/UK 18:00-19:00 CET Imaging in Pediatric and Ado
 lescence population: Practical tips to manage young people Machteld Keupers
 \,  Leuven/BE Discussion\,  Q&amp;A\nhttps://www.eusobi.org/events/eusobi-e
 yc-webinar-series-7-imaging-in-pediatric-and-adolescence-population-practic
 al-tips-to-manage-young-people/
URL:https://www.eusobi.org/events/eusobi-eyc-webinar-series-7-imaging-in-pediatric-and-adolescence-population-practical-tips-to-manage-young-people/
END:VEVENT
END:VCALENDAR