BEGIN:VCALENDAR
VERSION:2.0
PRODID:-//eventon.com NONSGML v1.0//EN
CALSCALE:GREGORIAN
METHOD:PUBLISH
BEGIN:VEVENT
UID:69ecaf3c8b52e
DTSTAMP:20260425T121036Z
DTSTART:20260422T171500Z
DTEND:20260422T184500Z
LOCATION:
SUMMARY:Mammography Symposium with László Tabár: Spring Edition 2026 (free)
DESCRIPTION:Dear colleagues\,  Dear friends\,  We are pleased to invite you
  to the Spring Edition of our Mammography Symposium series on 22 April 2026
 . In 2026\,  we celebrate five years of the “School of Radiology meets L
 szló Tabár” series. During this time\,  the series has brought togethe
 r more than 2\, 000 participants[..]\nhttps://www.eusobi.org/events/mammogr
 aphy-symposium-with-laszlo-tabar-spring-edition-2026-free/
URL:https://www.eusobi.org/events/mammography-symposium-with-laszlo-tabar-spring-edition-2026-free/
END:VEVENT
END:VCALENDAR