BEGIN:VCALENDAR
VERSION:2.0
PRODID:-//eventon.com NONSGML v1.0//EN
CALSCALE:GREGORIAN
METHOD:PUBLISH
BEGIN:VEVENT
UID:69ecaee6e7c7d
DTSTAMP:20260425T120910Z
DTSTART:20261001
DTEND:20261002
LOCATION:Maastricht/NL
SUMMARY:EUSOBI 2026
DESCRIPTION:EUSOBI 2026\nhttps://www.eusobi.org/events/eusobi-2026/
URL:https://www.eusobi.org/events/eusobi-2026/
END:VEVENT
END:VCALENDAR