BEGIN:VCALENDAR
VERSION:2.0
PRODID:-//eventon.com NONSGML v1.0//EN
CALSCALE:GREGORIAN
METHOD:PUBLISH
BEGIN:VEVENT
UID:69ecc40c0a14c
DTSTAMP:20260425T133924Z
DTSTART:20260627
DTEND:20260628
LOCATION:
SUMMARY:MRI of the breast: Advanced Course (with Pascal Baltzer and Matthias Dietzel)
DESCRIPTION:Dear colleagues\,  We cordially invite you to our breast MRI co
 urses. Werner Kaiser himself\,  the inventor of breast MRI\,  introduced us
  to “his” method some 20 years ago. Here comes the story behind our bre
 ast MRI courses: A coherent teaching on highest scientific\,  clinical and 
 teaching standards. And most of[..]\nhttps://www.eusobi.org/events/mri-of-t
 he-breast-advanced-course-with-pascal-baltzer-and-matthias-dietzel/
URL:https://www.eusobi.org/events/mri-of-the-breast-advanced-course-with-pascal-baltzer-and-matthias-dietzel/
END:VEVENT
END:VCALENDAR