BEGIN:VCALENDAR
VERSION:2.0
PRODID:-//eventon.com NONSGML v1.0//EN
CALSCALE:GREGORIAN
METHOD:PUBLISH
BEGIN:VEVENT
UID:69ecaf6b8f53b
DTSTAMP:20260425T121123Z
DTSTART:20260718
DTEND:20260719
LOCATION:
SUMMARY:Contrast Enhanced Mammography (CEM): Advanced Course (with Pascal Baltzer and Matthias Dietzel)
DESCRIPTION:Dear colleagues\,  We cordially invite you to our CEM courses. 
 This is the story behind our teaching: A coherent teaching on highest scien
 tific\,  clinical and educational standard. Our CEM courses are designed as
  a sequel (Basic\,  Advanced) and joining the entire series is recommended.
  Depending on your previous knowledge and[..]\nhttps://www.eusobi.org/event
 s/contrast-enhanced-mammography-cem-advanced-course-with-pascal-baltzer-and
 -matthias-dietzel/
URL:https://www.eusobi.org/events/contrast-enhanced-mammography-cem-advanced-course-with-pascal-baltzer-and-matthias-dietzel/
END:VEVENT
END:VCALENDAR